BEGIN:VCALENDAR
VERSION:2.0
PRODID:-//Contrat de Rivière Sambre &amp; Affluents - ECPv6.15.18//NONSGML v1.0//EN
CALSCALE:GREGORIAN
METHOD:PUBLISH
X-ORIGINAL-URL:https://www.crsambre.be
X-WR-CALDESC:Évènements pour Contrat de Rivière Sambre &amp; Affluents
REFRESH-INTERVAL;VALUE=DURATION:PT1H
X-Robots-Tag:noindex
X-PUBLISHED-TTL:PT1H
BEGIN:VTIMEZONE
TZID:Europe/Brussels
BEGIN:DAYLIGHT
TZOFFSETFROM:+0100
TZOFFSETTO:+0200
TZNAME:CEST
DTSTART:20230326T010000
END:DAYLIGHT
BEGIN:STANDARD
TZOFFSETFROM:+0200
TZOFFSETTO:+0100
TZNAME:CET
DTSTART:20231029T010000
END:STANDARD
BEGIN:DAYLIGHT
TZOFFSETFROM:+0100
TZOFFSETTO:+0200
TZNAME:CEST
DTSTART:20240331T010000
END:DAYLIGHT
BEGIN:STANDARD
TZOFFSETFROM:+0200
TZOFFSETTO:+0100
TZNAME:CET
DTSTART:20241027T010000
END:STANDARD
BEGIN:DAYLIGHT
TZOFFSETFROM:+0100
TZOFFSETTO:+0200
TZNAME:CEST
DTSTART:20250330T010000
END:DAYLIGHT
BEGIN:STANDARD
TZOFFSETFROM:+0200
TZOFFSETTO:+0100
TZNAME:CET
DTSTART:20251026T010000
END:STANDARD
END:VTIMEZONE
BEGIN:VEVENT
DTSTART;TZID=Europe/Brussels:20241124T090000
DTEND;TZID=Europe/Brussels:20241124T120000
DTSTAMP:20260419T142409
CREATED:20241114T090252Z
LAST-MODIFIED:20241114T090252Z
UID:10000794-1732438800-1732449600@www.crsambre.be
SUMMARY:Merbes-le-Château - Semaine de l'Arbre 2024
DESCRIPTION:La ripisylve\, c’est la végétation qui borde nos cours d’eau. Elle a de multiples fonctions. Venez les découvrir sur le stand du CRSA lors de la distribution d’arbres à Merbes-le-Château !\n\n Semaine de l’arbre 2024 à Merbes-le-Château \n\n\n 3 moments clés pour se rencontrer et échanger ! C’est gratuit et vous ne repartirez pas les mains vides !!! \n\n\nDimanche 24 novembre\nPour la 3ème année consécutive\, nous organiserons la distribution de plants d’arbres et arbustes indigènes dans le parc de l’administration communale.\nCette année\, les plants suivants seront distribués le dimanche 24 novembre de 9h à 12h : érables\, sorbiers des oiseleurs\, aubépines\, charmes\, fusains\, genêts\, prunelliers\, sureaux\, noisetiers\, pommiers\, châtaigniers\, cognassiers\, framboisiers\, groseilliers rouges ou à maquereaux et cassis.\n\n\nEn parallèle à la distribution\, venez découvrir les stands de nos associations locales et participer à leurs ateliers : Natagora\, Nature et progrès\, la Souris Qui Crée\, le Collège des Producteurs\, le Contrat Rivière Sambre\, des conseils de plantation par l’horticulture Defossez…\n\n\nEt régalez vous sur le stand du Comité Télévie Ensemble Pour la Vie !\n\n\nNos services communaux : Adaptation Climat (Pollec)\, Logement/Energie\, et Environnement seront également disponibles pour répondre à vos questions !\n\n\nMercredi 27 novembre\nNos enfants de l’accueil temps libre partiront à Thuin pour découvrir et expérimenter les qualités tinctoriales des plantes Une activité réalisée en partenariat avec La Souris Qui Crée !\n\n\n Jeudi 28 novembre\nOn termine la semaine en beauté : Soirée cinéma pour toute la famille avec la projection du merveilleux documentaire « Le Chêne » à 19h30 à la salle Lengrand de Merbes-le-Château.\nPour visualiser la bande annonce : Cliquez ici : https://www.youtube.com/watch?v=t0x92ZJqU7g\n\n\n Un verre de l’amitié sera offert pour clôturer l’événement !\n Inscription souhaitée. Activité proposée en partenariat avec le Centre Culturel Haute Sambre.\n\n\nÀ vos agendas … Et surtout … À bientôt ! \n\n\nInfos complémentaires : service environnement : 071/55.90.80 ou environnement@commune-merbes-le-chateau.be
URL:https://www.crsambre.be/event/merbes-le-chateau-semaine-de-larbre-2024/
LOCATION:Administration communale de Merbes-le-Château\, administration communale\, rue Saint Martin\, 71\, Merbes-le-Château\, 6567\, Belgium
CATEGORIES:sensibilisation,stand
ATTACH;FMTTYPE=image/jpeg:https://www.crsambre.be/wp-content/uploads/2024/11/241124-MLC-affiche-arbres.jpg
END:VEVENT
END:VCALENDAR