BEGIN:VCALENDAR
VERSION:2.0
PRODID:-//Contrat de Rivière Sambre &amp; Affluents - ECPv6.15.18//NONSGML v1.0//EN
CALSCALE:GREGORIAN
METHOD:PUBLISH
X-ORIGINAL-URL:https://www.crsambre.be
X-WR-CALDESC:Évènements pour Contrat de Rivière Sambre &amp; Affluents
REFRESH-INTERVAL;VALUE=DURATION:PT1H
X-Robots-Tag:noindex
X-PUBLISHED-TTL:PT1H
BEGIN:VTIMEZONE
TZID:Europe/Brussels
BEGIN:DAYLIGHT
TZOFFSETFROM:+0100
TZOFFSETTO:+0200
TZNAME:CEST
DTSTART:20240331T010000
END:DAYLIGHT
BEGIN:STANDARD
TZOFFSETFROM:+0200
TZOFFSETTO:+0100
TZNAME:CET
DTSTART:20241027T010000
END:STANDARD
BEGIN:DAYLIGHT
TZOFFSETFROM:+0100
TZOFFSETTO:+0200
TZNAME:CEST
DTSTART:20250330T010000
END:DAYLIGHT
BEGIN:STANDARD
TZOFFSETFROM:+0200
TZOFFSETTO:+0100
TZNAME:CET
DTSTART:20251026T010000
END:STANDARD
BEGIN:DAYLIGHT
TZOFFSETFROM:+0100
TZOFFSETTO:+0200
TZNAME:CEST
DTSTART:20260329T010000
END:DAYLIGHT
BEGIN:STANDARD
TZOFFSETFROM:+0200
TZOFFSETTO:+0100
TZNAME:CET
DTSTART:20261025T010000
END:STANDARD
END:VTIMEZONE
BEGIN:VEVENT
DTSTART;TZID=Europe/Brussels:20250329T093000
DTEND;TZID=Europe/Brussels:20250329T113000
DTSTAMP:20260424T083043
CREATED:20250304T152406Z
LAST-MODIFIED:20250304T152406Z
UID:10000867-1743240600-1743247800@www.crsambre.be
SUMMARY:Mettet - Ici c'est cool… "le Burnot"
DESCRIPTION:balade pédestre\nNous vous proposons une balade guidée par Evelyne\, une bénévole passionnée\, le long du parcours didactique « Ici c’est cool… » mis en place par le Contrat de rivière Haute-Meuse à la découverte du Burnot\, au départ de l’Abbaye de Brogne\, à Saint-Gérard. Prévoyez une tenue adaptée : bottines de marche\, vêtements chauds. \nInformations pratiques :\n\nActivité : En extérieur\nAccès PMR / poussettes : NON\nRéservation : conseillée\n\nEn collaboration avec : le CR Haute Meuse
URL:https://www.crsambre.be/event/mettet-ici-cest-cool-le-burnot/
LOCATION:Place de Brogne\, Saint-Gérard\, Place de Brogne\,\, Saint-Gérard\, Belgium
CATEGORIES:balade
ORGANIZER;CN="GAL Entre Sambre et Meuse":MAILTO:mathilde@entre-sambre-et-meuse.be
END:VEVENT
END:VCALENDAR