BEGIN:VCALENDAR
VERSION:2.0
PRODID:-//Contrat de Rivière Sambre &amp; Affluents - ECPv6.15.18//NONSGML v1.0//EN
CALSCALE:GREGORIAN
METHOD:PUBLISH
X-WR-CALNAME:Contrat de Rivière Sambre &amp; Affluents
X-ORIGINAL-URL:https://www.crsambre.be
X-WR-CALDESC:Évènements pour Contrat de Rivière Sambre &amp; Affluents
REFRESH-INTERVAL;VALUE=DURATION:PT1H
X-Robots-Tag:noindex
X-PUBLISHED-TTL:PT1H
BEGIN:VTIMEZONE
TZID:Europe/Brussels
BEGIN:DAYLIGHT
TZOFFSETFROM:+0100
TZOFFSETTO:+0200
TZNAME:CEST
DTSTART:20240331T010000
END:DAYLIGHT
BEGIN:STANDARD
TZOFFSETFROM:+0200
TZOFFSETTO:+0100
TZNAME:CET
DTSTART:20241027T010000
END:STANDARD
BEGIN:DAYLIGHT
TZOFFSETFROM:+0100
TZOFFSETTO:+0200
TZNAME:CEST
DTSTART:20250330T010000
END:DAYLIGHT
BEGIN:STANDARD
TZOFFSETFROM:+0200
TZOFFSETTO:+0100
TZNAME:CET
DTSTART:20251026T010000
END:STANDARD
BEGIN:DAYLIGHT
TZOFFSETFROM:+0100
TZOFFSETTO:+0200
TZNAME:CEST
DTSTART:20260329T010000
END:DAYLIGHT
BEGIN:STANDARD
TZOFFSETFROM:+0200
TZOFFSETTO:+0100
TZNAME:CET
DTSTART:20261025T010000
END:STANDARD
BEGIN:DAYLIGHT
TZOFFSETFROM:+0100
TZOFFSETTO:+0200
TZNAME:CEST
DTSTART:20270328T010000
END:DAYLIGHT
BEGIN:STANDARD
TZOFFSETFROM:+0200
TZOFFSETTO:+0100
TZNAME:CET
DTSTART:20271031T010000
END:STANDARD
END:VTIMEZONE
BEGIN:VEVENT
DTSTART;TZID=Europe/Brussels:20260424T110000
DTEND;TZID=Europe/Brussels:20260424T123000
DTSTAMP:20260424T201916
CREATED:20260318T092149Z
LAST-MODIFIED:20260414T101202Z
UID:10000968-1777028400-1777033800@www.crsambre.be
SUMMARY:Inond'actions : Comment éviter ou réduire les coulées de boue ? (webinaire)
DESCRIPTION:Dans le cadre de l’accord de coopération « Culture du Risque d’Inondation »\, le SPW Agriculture\, Ressources Naturelles et Environnement (Direction des Cours d’Eau non navigables) et les Contrats de Rivière de Wallonie vous proposent des séances d’informations Inond’actions.\n24 avril : Comment éviter ou réduire les coulées de boue ?\nLe printemps rime avec soleil… mais aussi avec coulées de boue. À cette saison\, toutes les cultures ne couvrent pas encore suffisamment les sols\, tandis que les premiers orages font leur apparition. Un cocktail idéal pour ce phénomène. \nL’occasion de faire le point : \n\nComprendre les mécanismes des coulées de boue\,\nDécouvrir des conseils pratiques pour limiter les risques\,\nS’inspirer d’exemples concrets présentés par une commune.\n\nAvec qui ?\nLa cellule GISER (Gestion Intégrée Sol Érosion Ruissellement) du SPW\, experte en ruissellement en Wallonie\, interviendra en tant qu’oratrice. \nPour qui ?\nLes services publics et acteurs concernés. \nInscription :\n👉 https://us06web.zoom.us/webinar/register/WN_UZziHkuSTX6FqdVdA6qoCw
URL:https://www.crsambre.be/event/inondactions-comment-eviter-ou-reduire-les-coulees-de-boue-webinaire/
LOCATION:visioconférence
ATTACH;FMTTYPE=image/png:https://www.crsambre.be/wp-content/uploads/2026/03/Inondactions-coulees-de-boue.png
END:VEVENT
BEGIN:VEVENT
DTSTART;TZID=Europe/Brussels:20260327T110000
DTEND;TZID=Europe/Brussels:20260327T123000
DTSTAMP:20260424T201916
CREATED:20260318T082455Z
LAST-MODIFIED:20260318T091738Z
UID:10000967-1774609200-1774614600@www.crsambre.be
SUMMARY:Inond'actions : Le diagnostic de l'habitat\, un outil pour vos citoyen.nes (webinaire)
DESCRIPTION:Dans le cadre de l’accord de coopération « Culture du Risque d’Inondation »\, le SPW Agriculture\, Ressources Naturelles et Environnement (Direction des Cours d’Eau non navigables) et les Contrats de Rivière de Wallonie vous proposent des séances d’informations Inond’actions.\n27 mars : Se préparer\, c’est protéger – Découverte de l’autodiagnostic de l’habitat face aux inondations.\nUn rendez-vous essentiel pour échanger sur les bonnes pratiques et les outils disponibles pour améliorer la résilience du bâti. \nAu programme : \n\nPrésentation de l’autodiagnostic de l’habitat et exemples concrets : Comment l’utiliser efficacement ? Où le diffuser ?\nFocus batardeaux : Christophe Galloy (Buildwise) interviendra sur l’importance du choix adapté des batardeaux selon les situations.\nPrimes : les communes de Brunehaut et Court-Saint-Etienne partageront leurs méthodes pour soutenir les citoyens.\n\n🔗 Inscrivez-vous dès maintenant si ce n’est pas déjà fait ! \nNous comptons sur votre présence pour enrichir les échanges. N’hésitez pas à relayer cette invitation à vos réseaux. \nhttps://us06web.zoom.us/webinar/register/WN_YjmVIqeWTX-lpO-FjVV2TQ.
URL:https://www.crsambre.be/event/inondactions-le-diagnostic-de-lhabitat-un-outil-pour-vos-citoyen-nes/
LOCATION:visioconférence
ATTACH;FMTTYPE=image/png:https://www.crsambre.be/wp-content/uploads/2026/03/2.png
END:VEVENT
BEGIN:VEVENT
DTSTART;TZID=Europe/Brussels:20260116T110000
DTEND;TZID=Europe/Brussels:20260116T123000
DTSTAMP:20260424T201916
CREATED:20251023T125758Z
LAST-MODIFIED:20251023T130214Z
UID:10000885-1768561200-1768566600@www.crsambre.be
SUMMARY:Inond’actions : Interpréter une étude hydrologique/hydraulique - partie 2 : Interprétation des résultats (webinaire)
DESCRIPTION:Dans le cadre de l’accord de coopération « Culture du Risque d’Inondation »\, le SPW Agriculture\, Ressources Naturelles et Environnement (Direction des Cours d’Eau non navigables) et les Contrats de Rivière de Wallonie vous proposent des séances d’informations Inond’actions pour ce 2ème semestre. \nCes séances ont été conçues pour répondre aux besoins relevés lors des réunions de concertation de juin 2024 (CTSBH) et se poursuivent avec de nouvelles thématiques enrichissantes.  \nVendredi 16 janvier 2026 : Interpréter une étude hydrologique/hydraulique (partie 2 : Interprétation des résultats) \nThème : Interprétation concrète des résultats des études\, cruciale pour la prise de décision en matière d’aménagement et de prévention des inondations. \nInscription ici👉 https://us06web.zoom.us/webinar/register/WN_1zH9ZfPiTFq1QV3HW9yu6A \nCes séances sont spécifiquement destinées au personnel des services publics et aux professionnels concernés par la gestion du risque d’inondation (urbanisme\, travaux\, environnement\, aménagement du territoire\, élus\, architectes\, notaires\, agents immobiliers\, gestionnaires de crise\, services de secours\, services de police\, etc.). \nVous n’êtes pas disponible ? Pas de problème ! Toutes les séances seront enregistrées et mises en ligne sur notre chaîne YouTube pour que vous puissiez les consulter à votre convenance  : http://www.youtube.com/@SPWAgricultureEnvironnement.
URL:https://www.crsambre.be/event/inondactions-interpreter-une-etude-hydrologique-hydraulique-partie-2-interpretation-des-resultats-webinaire/
LOCATION:visioconférence
CATEGORIES:conférence
ATTACH;FMTTYPE=image/png:https://www.crsambre.be/wp-content/uploads/2025/10/1.png
END:VEVENT
BEGIN:VEVENT
DTSTART;TZID=Europe/Brussels:20251121T110000
DTEND;TZID=Europe/Brussels:20251121T123000
DTSTAMP:20260424T201916
CREATED:20251023T125437Z
LAST-MODIFIED:20251105T092559Z
UID:10000883-1763722800-1763728200@www.crsambre.be
SUMMARY:Inond’actions : Introduction à l’hydrologie régénérative (webinaire)
DESCRIPTION:Dans le cadre de l’accord de coopération « Culture du Risque d’Inondation »\, le SPW Agriculture\, Ressources Naturelles et Environnement (Direction des Cours d’Eau non navigables) et les Contrats de Rivière de Wallonie vous proposent des séances d’informations Inond’actions pour ce 2ème semestre. \nCes séances ont été conçues pour répondre aux besoins relevés lors des réunions de concertation de juin 2024 (CTSBH) et se poursuivent avec de nouvelles thématiques enrichissantes. \nVendredi 21 novembre 2025 : Introduction à l’hydrologie régénérative\nThème : Une première approche des principes et applications de l’hydrologie régénérative pour une gestion plus naturelle et résiliente de l’eau. \nOrateur : Hydrologie Régénérative Belgique. \nInscription :  👉 https://us06web.zoom.us/webinar/register/WN_pNaiZkDTR4qhUFBjL_0BPQ \nCes séances sont spécifiquement destinées au personnel des services publics et aux professionnels concernés par la gestion du risque d’inondation (urbanisme\, travaux\, environnement\, aménagement du territoire\, élus\, architectes\, notaires\, agents immobiliers\, gestionnaires de crise\, services de secours\, services de police\, etc.). \nVous n’êtes pas disponible ? Pas de problème ! Toutes les séances seront enregistrées et mises en ligne sur notre chaîne YouTube pour que vous puissiez les consulter à votre convenance  : http://www.youtube.com/@SPWAgricultureEnvironnement.
URL:https://www.crsambre.be/event/inondactions-introduction-a-lhydrologie-regenerative-webinaire/
LOCATION:visioconférence
CATEGORIES:conférence
ATTACH;FMTTYPE=image/png:https://www.crsambre.be/wp-content/uploads/2025/10/2-e1762163185808.png
END:VEVENT
BEGIN:VEVENT
DTSTART;TZID=Europe/Brussels:20251212T110000
DTEND;TZID=Europe/Brussels:20251212T123000
DTSTAMP:20260424T201916
CREATED:20251023T125345Z
LAST-MODIFIED:20251202T111624Z
UID:10000884-1765537200-1765542600@www.crsambre.be
SUMMARY:Inond’actions : Interpréter une étude hydrologique/hydraulique - partie 1 : Modélisation (webinaire)
DESCRIPTION:Comment décrypter une étude hydraulique ? Quelle est la différence avec une étude hydrologique ? 🤔 Quels sont les points clés à vérifier dès la conception du cahier des charges\, et au moment de la réception de l’étude ?\nC’est à ces questions (et bien d’autres !) que nous répondrons lors des prochains Inond’actions ! 🚀 Un sujet si vaste qu’il méritera 2 webinaires pour tout explorer : \n📅 12 décembre :  Interpréter une étude hydrologique/hydraulique (partie 1 : Modélisation) \n📅 16 janvier : Apprenez à interpréter les résultats d’une étude hydraulique. \n🔗 Inscriptions ouvertes ! \nhttps://us06web.zoom.us/webinar/register/WN_KbwzyB_HTAW6-VVGZqkkag \nDans le cadre de l’accord de coopération « Culture du Risque d’Inondation »\, le SPW Agriculture\, Ressources Naturelles et Environnement (Direction des Cours d’Eau non navigables) et les Contrats de Rivière de Wallonie vous proposent des séances d’informations Inond’actions . \nCes séances sont spécifiquement destinées au personnel des services publics et aux professionnels concernés par la gestion du risque d’inondation (urbanisme\, travaux\, environnement\, aménagement du territoire\, élus\, architectes\, notaires\, agents immobiliers\, gestionnaires de crise\, services de secours\, services de police\, etc.). \nVous n’êtes pas disponible ? Pas de problème ! Toutes les séances seront enregistrées et mises en ligne sur notre chaîne YouTube pour que vous puissiez les consulter à votre convenance  : http://www.youtube.com/@SPWAgricultureEnvironnement.
URL:https://www.crsambre.be/event/inondactions-interpreter-une-etude-hydrologique-hydraulique-partie-1-modelisation-webinaire/
LOCATION:visioconférence
CATEGORIES:conférence
ATTACH;FMTTYPE=image/png:https://www.crsambre.be/wp-content/uploads/2025/10/Inondactions-template-com-update-16.10.png
END:VEVENT
BEGIN:VEVENT
DTSTART;TZID=Europe/Brussels:20250620T110000
DTEND;TZID=Europe/Brussels:20250620T123000
DTSTAMP:20260424T201916
CREATED:20250613T083725Z
LAST-MODIFIED:20250613T125930Z
UID:10000882-1750417200-1750422600@www.crsambre.be
SUMMARY:Séances d’information « Inond’actions »
DESCRIPTION:Référentiel Gestion durable des eaux pluviales : de la théorie aux cas pratiques \nInond’Actions\, ce sont des séances d’informations sur la thématique des inondations\, tels que : les messages d’alerte\, la construction en zone inondable ou la gestion des eaux pluviales\,  organisées par les Contrats de Rivières de Wallonie dans le cadre de la mission  » Culture du Risque d’Inondations  » en partenariat avec le Service Public de Wallonie – ARNE. \nCes séances se déroulent en visioconférence\, durée 1h30\, \nInscription obligatoire via ce lien \nOrateur : Jacques Teller (Directeur LEMA – Local Environment Management and Analysis\, HECE\, professeur à l’université de Liège)\n\nCette présentation détaillera les mesures de rétention et d’infiltration qui peuvent être mises en place pour gérer les eaux pluviales en amont des axes de ruissellement et des zones de débordement\, tant à l’échelle d’un bâtiment isolé que d’un ensemble bâti. \nPublic cible :\nSéance ouverte aux services d’urbanisme\, de travaux\, d’environnement\, d’aménagement du territoire\, élus\, architectes\, notaires\, agents immobiliers… \n📽️ Revoir les séances précédentes : \n\nCompréhension des différents messages d’alerte \nRéférentiel Constructions et aménagements en zone inondable\n\n 
URL:https://www.crsambre.be/event/seances-dinformation-inondactions/
LOCATION:visioconférence
CATEGORIES:conférence,sensibilisation
ATTACH;FMTTYPE=image/png:https://www.crsambre.be/wp-content/uploads/2025/06/Inondactions_ptt.png
END:VEVENT
END:VCALENDAR