BEGIN:VCALENDAR
VERSION:2.0
PRODID:-//Contrat de Rivière Sambre &amp; Affluents - ECPv6.15.18//NONSGML v1.0//EN
CALSCALE:GREGORIAN
METHOD:PUBLISH
X-WR-CALNAME:Contrat de Rivière Sambre &amp; Affluents
X-ORIGINAL-URL:https://www.crsambre.be
X-WR-CALDESC:Évènements pour Contrat de Rivière Sambre &amp; Affluents
REFRESH-INTERVAL;VALUE=DURATION:PT1H
X-Robots-Tag:noindex
X-PUBLISHED-TTL:PT1H
BEGIN:VTIMEZONE
TZID:Europe/Brussels
BEGIN:DAYLIGHT
TZOFFSETFROM:+0100
TZOFFSETTO:+0200
TZNAME:CEST
DTSTART:20240331T010000
END:DAYLIGHT
BEGIN:STANDARD
TZOFFSETFROM:+0200
TZOFFSETTO:+0100
TZNAME:CET
DTSTART:20241027T010000
END:STANDARD
BEGIN:DAYLIGHT
TZOFFSETFROM:+0100
TZOFFSETTO:+0200
TZNAME:CEST
DTSTART:20250330T010000
END:DAYLIGHT
BEGIN:STANDARD
TZOFFSETFROM:+0200
TZOFFSETTO:+0100
TZNAME:CET
DTSTART:20251026T010000
END:STANDARD
BEGIN:DAYLIGHT
TZOFFSETFROM:+0100
TZOFFSETTO:+0200
TZNAME:CEST
DTSTART:20260329T010000
END:DAYLIGHT
BEGIN:STANDARD
TZOFFSETFROM:+0200
TZOFFSETTO:+0100
TZNAME:CET
DTSTART:20261025T010000
END:STANDARD
END:VTIMEZONE
BEGIN:VEVENT
DTSTART;TZID=Europe/Brussels:20251123T140000
DTEND;TZID=Europe/Brussels:20251123T180000
DTSTAMP:20260422T105050
CREATED:20251103T145900Z
LAST-MODIFIED:20251103T145900Z
UID:10000890-1763906400-1763920800@www.crsambre.be
SUMMARY:Aiseau-Presles : Journée environnement + énergie
DESCRIPTION:Le CRSA présentera l’Exact Lab qui permet de visualiser les risques d’inondations à l’échelle du territoire de la commune.\nUne après-midi pour découvrir\, apprendre et échanger autour de l’énergie et de l’environnement. \n Au programme : \n\n Ateliers et animations thématiques\n Producteurs locaux & exposants\n Conseils personnalisés\n Démonstrations et vente de batteries domestiques intelligentes\n Nombreux cadeaux + distribution de bulbes\n Espace enfants\, bar & petite restauration\n\nNouveauté 2025 – Focus Énergie\nAvec BEPROSUMER : enjeux actuels\, solutions locales et présentation de la batterie intelligente. \nFocus Environnement\nDistribution de plantes\, conseils pratiques et rencontres avec des pros du jardinage. \nProgramme complet
URL:https://www.crsambre.be/event/aiseau-presles-journee-environnement-energie/
LOCATION:Sambr’Expo\, Rue Président J.Kennedy 150\, Roselies\, 6250\, Belgium
CATEGORIES:animation,sensibilisation,stand
ATTACH;FMTTYPE=image/jpeg:https://www.crsambre.be/wp-content/uploads/2025/11/Bandeau-Tonnelle-scaled.jpg
END:VEVENT
END:VCALENDAR