BEGIN:VCALENDAR
VERSION:2.0
PRODID:-//Contrat de Rivière Sambre &amp; Affluents - ECPv6.15.18//NONSGML v1.0//EN
CALSCALE:GREGORIAN
METHOD:PUBLISH
X-ORIGINAL-URL:https://www.crsambre.be
X-WR-CALDESC:Évènements pour Contrat de Rivière Sambre &amp; Affluents
REFRESH-INTERVAL;VALUE=DURATION:PT1H
X-Robots-Tag:noindex
X-PUBLISHED-TTL:PT1H
BEGIN:VTIMEZONE
TZID:Europe/Brussels
BEGIN:DAYLIGHT
TZOFFSETFROM:+0100
TZOFFSETTO:+0200
TZNAME:CEST
DTSTART:20240331T010000
END:DAYLIGHT
BEGIN:STANDARD
TZOFFSETFROM:+0200
TZOFFSETTO:+0100
TZNAME:CET
DTSTART:20241027T010000
END:STANDARD
BEGIN:DAYLIGHT
TZOFFSETFROM:+0100
TZOFFSETTO:+0200
TZNAME:CEST
DTSTART:20250330T010000
END:DAYLIGHT
BEGIN:STANDARD
TZOFFSETFROM:+0200
TZOFFSETTO:+0100
TZNAME:CET
DTSTART:20251026T010000
END:STANDARD
BEGIN:DAYLIGHT
TZOFFSETFROM:+0100
TZOFFSETTO:+0200
TZNAME:CEST
DTSTART:20260329T010000
END:DAYLIGHT
BEGIN:STANDARD
TZOFFSETFROM:+0200
TZOFFSETTO:+0100
TZNAME:CET
DTSTART:20261025T010000
END:STANDARD
END:VTIMEZONE
BEGIN:VEVENT
DTSTART;TZID=Europe/Brussels:20251122T100000
DTEND;TZID=Europe/Brussels:20251122T140000
DTSTAMP:20260424T061515
CREATED:20251103T145058Z
LAST-MODIFIED:20251121T103015Z
UID:10000889-1763805600-1763820000@www.crsambre.be
SUMMARY:Ham-sur-Heure : Journée de l'Arbre
DESCRIPTION:Le CRSA présentera l’Exact Lab qui permet de visualiser les risques d’inondations à l’échelle du territoire de la commune. \n  \n 
URL:https://www.crsambre.be/event/ham-sur-heure-journee-de-larbre/
LOCATION:Château d’Ham-sur-Heure-Nalinnes\, rue d'oultre heure 20\, Ham-sur Heure-Nalinnes\, 6120\, Belgium
CATEGORIES:animation,sensibilisation,stand
ATTACH;FMTTYPE=image/jpeg:https://www.crsambre.be/wp-content/uploads/2025/11/Bandeau-Tonnelle-scaled.jpg
END:VEVENT
BEGIN:VEVENT
DTSTART;TZID=Europe/Brussels:20250329T100000
DTEND;TZID=Europe/Brussels:20250329T170000
DTSTAMP:20260424T061515
CREATED:20250228T133229Z
LAST-MODIFIED:20250228T135249Z
UID:10000846-1743242400-1743267600@www.crsambre.be
SUMMARY:Ham-sur-Heure-Nalinnes - L'Eau d' Heure au fil du temps
DESCRIPTION:Exposition\nExposition sur l’histoire de la commune\, et de la place de l’Eau d’Heure dans celle-ci. \nvisite guidées de 20 panneaux de photos \nTable ronde de 15h à 17h \nInformations pratiques :\n\nActivité : intérieur\nAccès PMR / poussettes : Oui\nPas de Réservation\n\nContact : Sandrine.lejeune@hshn.be 071/ 22/ 93/ 59 \nEn collaboration avec : ASBL Chemin d’un village
URL:https://www.crsambre.be/event/ham-sur-heure-nalinnes-leau-d-heure-au-fil-du-temps/
LOCATION:Château d’Ham-sur-Heure-Nalinnes\, rue d'oultre heure 20\, Ham-sur Heure-Nalinnes\, 6120\, Belgium
CATEGORIES:visite
ATTACH;FMTTYPE=image/jpeg:https://www.crsambre.be/wp-content/uploads/2025/02/affiche-journees-de-leau-2024fond-vert.jpg
END:VEVENT
END:VCALENDAR