BEGIN:VCALENDAR
VERSION:2.0
PRODID:-//Contrat de Rivière Sambre &amp; Affluents - ECPv6.15.18//NONSGML v1.0//EN
CALSCALE:GREGORIAN
METHOD:PUBLISH
X-ORIGINAL-URL:https://www.crsambre.be
X-WR-CALDESC:Évènements pour Contrat de Rivière Sambre &amp; Affluents
REFRESH-INTERVAL;VALUE=DURATION:PT1H
X-Robots-Tag:noindex
X-PUBLISHED-TTL:PT1H
BEGIN:VTIMEZONE
TZID:Europe/Brussels
BEGIN:DAYLIGHT
TZOFFSETFROM:+0100
TZOFFSETTO:+0200
TZNAME:CEST
DTSTART:20240331T010000
END:DAYLIGHT
BEGIN:STANDARD
TZOFFSETFROM:+0200
TZOFFSETTO:+0100
TZNAME:CET
DTSTART:20241027T010000
END:STANDARD
BEGIN:DAYLIGHT
TZOFFSETFROM:+0100
TZOFFSETTO:+0200
TZNAME:CEST
DTSTART:20250330T010000
END:DAYLIGHT
BEGIN:STANDARD
TZOFFSETFROM:+0200
TZOFFSETTO:+0100
TZNAME:CET
DTSTART:20251026T010000
END:STANDARD
BEGIN:DAYLIGHT
TZOFFSETFROM:+0100
TZOFFSETTO:+0200
TZNAME:CEST
DTSTART:20260329T010000
END:DAYLIGHT
BEGIN:STANDARD
TZOFFSETFROM:+0200
TZOFFSETTO:+0100
TZNAME:CET
DTSTART:20261025T010000
END:STANDARD
END:VTIMEZONE
BEGIN:VEVENT
DTSTART;TZID=Europe/Brussels:20250314T133000
DTEND;TZID=Europe/Brussels:20250314T160000
DTSTAMP:20260419T233619
CREATED:20250205T101149Z
LAST-MODIFIED:20250313T140534Z
UID:10000801-1741959000-1741968000@www.crsambre.be
SUMMARY:ANNULE - Thuin  - Baladéo
DESCRIPTION:Cet événement est annulé. Il sera reprogrammé à une autre date.\nOpération rivière Propre suivie d’un atelier\nLe projet Baladéo\, porté par Valorisart\, combine création artistique et éducation durable à travers des ateliers participatifs. L’approche repose sur l’utilisation de matériaux recyclés pour la réalisation d’œuvres\, dans un cadre convivial et intergénérationnel. \nL’après-midi débutera par une opération rivière propre pour aller ramasser les déchets qui jonchent le cours d’eau. (RDV devant le restaurant pizzeria Rustica Rue de Beaumont 136\, 6536 Thuin). \nNous nous retrouverons ensuite pour l’atelier (5 rue Alphonse Liégeois 6530 Thuin). Chaque participant sera invité ensuite à  réutiliser les matériaux ramassés\, les ”baladéos”\,  tout en apprenant des techniques artistiques. \nLe CRSA mettra à disposition le matériel pour l’opération rivière propre : gants\, bottes de pêches\, bacs et sacs poubelles\, etc. \nInformations pratiques :\n\nActivité : En extérieur\nÀ prévoir : Vêtements adaptés à la météo\, bottes\nAccès PMR / poussettes : Non\nRéservation : Obligatoire
URL:https://www.crsambre.be/event/thuin-baladeo-atelier/
LOCATION:restaurant pizzeria Rustica\, Rue de Beaumont 136\,\, Thuin\, 6536\, Belgium
CATEGORIES:animation
ORGANIZER;CN="Valorisart":MAILTO:info@valorisart.com
END:VEVENT
END:VCALENDAR